BEGIN:VCALENDAR
VERSION:2.0
PRODID:-//Maqdisi - مقدسي - ECPv6.15.18//NONSGML v1.0//EN
CALSCALE:GREGORIAN
METHOD:PUBLISH
X-ORIGINAL-URL:https://eastjerusalem.ps
X-WR-CALDESC:Events for Maqdisi - مقدسي
REFRESH-INTERVAL;VALUE=DURATION:PT1H
X-Robots-Tag:noindex
X-PUBLISHED-TTL:PT1H
BEGIN:VTIMEZONE
TZID:UTC
BEGIN:STANDARD
TZOFFSETFROM:+0000
TZOFFSETTO:+0000
TZNAME:UTC
DTSTART:20240101T000000
END:STANDARD
END:VTIMEZONE
BEGIN:VEVENT
DTSTART;TZID=UTC:20250125T180000
DTEND;TZID=UTC:20250125T200000
DTSTAMP:20260421T102338
CREATED:20250103T080028Z
LAST-MODIFIED:20250120T080523Z
UID:7191-1737828000-1737835200@eastjerusalem.ps
SUMMARY:Secret Al Quds Trivia Night + Dinner
DESCRIPTION:Join us for an evening of trivia (quiz competition in English)\, community\, and great vibes! \n📅 Date: Thursday\, January 25th\n🕕 Time: 6:00 PM\n📍 Location: Christmas Hotel\, Jerusalem \n🎟 Contribution: 60 NIS (by Jan 19th)\nIncludes one main dish per person (i.e. sandwich/burger/salad) and a soft drink. Additional beverages 🍷🍺 will be available at the bar. \n✨ Form a team of 4-6 (or we’ll pair you up!) and compete for thoughtful prizes.\n💡 New! Contribute one question for the quiz (via the registration form) \n💚 Register to secure your spot:\nhttps://forms.gle/xJBtPHFZL4yTDKyV7 \n 
URL:https://eastjerusalem.ps/event/secret-al-quds-trivia-night-dinner/
CATEGORIES:Trivia Events
ATTACH;FMTTYPE=image/jpeg:https://eastjerusalem.ps/wp-content/uploads/2025/01/WhatsApp-Image-2025-01-05-at-9.35.19-AM.jpeg
END:VEVENT
END:VCALENDAR