BEGIN:VCALENDAR
VERSION:2.0
PRODID:-//Maqdisi - مقدسي - ECPv6.15.18//NONSGML v1.0//EN
CALSCALE:GREGORIAN
METHOD:PUBLISH
X-WR-CALNAME:Maqdisi - مقدسي
X-ORIGINAL-URL:https://eastjerusalem.ps
X-WR-CALDESC:Events for Maqdisi - مقدسي
REFRESH-INTERVAL;VALUE=DURATION:PT1H
X-Robots-Tag:noindex
X-PUBLISHED-TTL:PT1H
BEGIN:VTIMEZONE
TZID:UTC
BEGIN:STANDARD
TZOFFSETFROM:+0000
TZOFFSETTO:+0000
TZNAME:UTC
DTSTART:20230101T000000
END:STANDARD
END:VTIMEZONE
BEGIN:VEVENT
DTSTART;TZID=UTC:20241213T090000
DTEND;TZID=UTC:20241214T120000
DTSTAMP:20260421T042505
CREATED:20241210T080723Z
LAST-MODIFIED:20241210T080723Z
UID:7076-1734080400-1734177600@eastjerusalem.ps
SUMMARY:The Bedouin Experience
DESCRIPTION:
URL:https://eastjerusalem.ps/event/the-bedouin-experience/
ATTACH;FMTTYPE=image/webp:https://eastjerusalem.ps/wp-content/uploads/2024/12/0cbc16_6e98e4459afd494092be7abf69a43587mv2.webp
END:VEVENT
END:VCALENDAR