BEGIN:VCALENDAR
VERSION:2.0
PRODID:-//Maqdisi - مقدسي - ECPv6.15.18//NONSGML v1.0//EN
CALSCALE:GREGORIAN
METHOD:PUBLISH
X-ORIGINAL-URL:https://eastjerusalem.ps
X-WR-CALDESC:Events for Maqdisi - مقدسي
REFRESH-INTERVAL;VALUE=DURATION:PT1H
X-Robots-Tag:noindex
X-PUBLISHED-TTL:PT1H
BEGIN:VTIMEZONE
TZID:UTC
BEGIN:STANDARD
TZOFFSETFROM:+0000
TZOFFSETTO:+0000
TZNAME:UTC
DTSTART:20240101T000000
END:STANDARD
END:VTIMEZONE
BEGIN:VEVENT
DTSTART;TZID=UTC:20250130T190000
DTEND;TZID=UTC:20250130T200000
DTSTAMP:20260420T212217
CREATED:20250127T072151Z
LAST-MODIFIED:20250127T072151Z
UID:7329-1738263600-1738267200@eastjerusalem.ps
SUMMARY:Film Screening
DESCRIPTION:The documentary “On the Doorstep”by Sahera Dirbas follows three generations of the Palestinian Bisharat family in the U.S. as they maintain a deep connection to their ancestral home\, “Villa Harun Al-Rasheed” in West Jerusalem\, seized in 1948. The film centers on 21-year-old Valerie’s journey to visit the house and her encounter with its current Israeli occupant\, 96-year-old Gisele Arazi. \nScreening on 30/01/2025 at 19:00 at Al-Ma’mal Foundation\, Jerusalem\, with the director present for discussion. Duration: 47 min.
URL:https://eastjerusalem.ps/event/film-screening-2/
ATTACH;FMTTYPE=image/png:https://eastjerusalem.ps/wp-content/uploads/2025/01/1737810797365blob.png
ORGANIZER;CN="Al-Mamal Foundation":MAILTO:info@almamal.org
END:VEVENT
END:VCALENDAR