BEGIN:VCALENDAR
VERSION:2.0
PRODID:-//Maqdisi - مقدسي - ECPv6.15.18//NONSGML v1.0//EN
CALSCALE:GREGORIAN
METHOD:PUBLISH
X-ORIGINAL-URL:https://eastjerusalem.ps
X-WR-CALDESC:Events for Maqdisi - مقدسي
REFRESH-INTERVAL;VALUE=DURATION:PT1H
X-Robots-Tag:noindex
X-PUBLISHED-TTL:PT1H
BEGIN:VTIMEZONE
TZID:UTC
BEGIN:STANDARD
TZOFFSETFROM:+0000
TZOFFSETTO:+0000
TZNAME:UTC
DTSTART:20240101T000000
END:STANDARD
END:VTIMEZONE
BEGIN:VEVENT
DTSTART;TZID=UTC:20250215T103000
DTEND;TZID=UTC:20250215T113000
DTSTAMP:20260420T195542
CREATED:20250210T073804Z
LAST-MODIFIED:20250210T073804Z
UID:7461-1739615400-1739619000@eastjerusalem.ps
SUMMARY:Pilates Class
DESCRIPTION:Every Saturday Pilates Class ( 10:30 am – 11:30 am) \nLocation: Arab Catholic Club \, New Gate
URL:https://eastjerusalem.ps/event/pilates-class/
ATTACH;FMTTYPE=image/jpeg:https://eastjerusalem.ps/wp-content/uploads/2025/02/PHOTO-2025-02-06-13-01-20.jpg
END:VEVENT
END:VCALENDAR