BEGIN:VCALENDAR
VERSION:2.0
PRODID:-//Maqdisi - مقدسي - ECPv6.15.18//NONSGML v1.0//EN
CALSCALE:GREGORIAN
METHOD:PUBLISH
X-WR-CALNAME:Maqdisi - مقدسي
X-ORIGINAL-URL:https://eastjerusalem.ps
X-WR-CALDESC:Events for Maqdisi - مقدسي
REFRESH-INTERVAL;VALUE=DURATION:PT1H
X-Robots-Tag:noindex
X-PUBLISHED-TTL:PT1H
BEGIN:VTIMEZONE
TZID:UTC
BEGIN:STANDARD
TZOFFSETFROM:+0000
TZOFFSETTO:+0000
TZNAME:UTC
DTSTART:20230101T000000
END:STANDARD
END:VTIMEZONE
BEGIN:VEVENT
DTSTART;TZID=UTC:20241211T180000
DTEND;TZID=UTC:20241211T193000
DTSTAMP:20260420T223304
CREATED:20241210T090714Z
LAST-MODIFIED:20241210T090754Z
UID:7100-1733940000-1733945400@eastjerusalem.ps
SUMMARY:Talk with Essa Grayeb
DESCRIPTION:
URL:https://eastjerusalem.ps/event/talk-with-essa-grayeb/
CATEGORIES:Workshop
ATTACH;FMTTYPE=image/jpeg:https://eastjerusalem.ps/wp-content/uploads/2024/12/IMG_0886.jpeg
ORGANIZER;CN="Al-Mamal Foundation":MAILTO:info@almamal.org
END:VEVENT
BEGIN:VEVENT
DTSTART;TZID=UTC:20241211T190000
DTEND;TZID=UTC:20241211T203000
DTSTAMP:20260420T223304
CREATED:20241209T114047Z
LAST-MODIFIED:20241209T114047Z
UID:7061-1733943600-1733949000@eastjerusalem.ps
SUMMARY:Artificial Heart
DESCRIPTION:
URL:https://eastjerusalem.ps/event/artificial-heart/
CATEGORIES:Perfomance Arts
ATTACH;FMTTYPE=image/png:https://eastjerusalem.ps/wp-content/uploads/2024/12/Screenshot-2024-12-09-133801.png
END:VEVENT
BEGIN:VEVENT
DTSTART;TZID=UTC:20241213T090000
DTEND;TZID=UTC:20241214T120000
DTSTAMP:20260420T223304
CREATED:20241210T080723Z
LAST-MODIFIED:20241210T080723Z
UID:7076-1734080400-1734177600@eastjerusalem.ps
SUMMARY:The Bedouin Experience
DESCRIPTION:
URL:https://eastjerusalem.ps/event/the-bedouin-experience/
ATTACH;FMTTYPE=image/webp:https://eastjerusalem.ps/wp-content/uploads/2024/12/0cbc16_6e98e4459afd494092be7abf69a43587mv2.webp
END:VEVENT
BEGIN:VEVENT
DTSTART;TZID=UTC:20241214T090000
DTEND;TZID=UTC:20241214T130000
DTSTAMP:20260420T223304
CREATED:20241210T081438Z
LAST-MODIFIED:20241210T081438Z
UID:7080-1734166800-1734181200@eastjerusalem.ps
SUMMARY:Breath - A Moment of Calm
DESCRIPTION:
URL:https://eastjerusalem.ps/event/breath-a-moment-of-calm/
ATTACH;FMTTYPE=image/webp:https://eastjerusalem.ps/wp-content/uploads/2024/12/0cbc16_887dafe376ea40c8ae3ccab0ba0b33b1mv2.webp
END:VEVENT
BEGIN:VEVENT
DTSTART;TZID=UTC:20241214T120000
DTEND;TZID=UTC:20241214T190000
DTSTAMP:20260420T223304
CREATED:20241210T093040Z
LAST-MODIFIED:20241210T093040Z
UID:7104-1734177600-1734202800@eastjerusalem.ps
SUMMARY:Jerusalem Market
DESCRIPTION:في سوق القدس: نتسوق بهدف، ونساعد مستقبل مجتمعنا على التألق!\n\n\nيدعوكم مركز يبوس الثقافي للحضور والمشاركة في سوق القدس بنسخة الأعياد المجيدة في شهر كانون الأول/ ديسمبر، حيث نحوّل التركيز من الاحتفال إلى التمكين!\n\n\nلنتعرف أكثر على المشاريع المحلية، وندعم المبدعين ورواد المشاريع الصغيرة في مدينة القدس في سباقهم في عالم يتجه نحو السرعة والراحة. فمن السهل أن ننجرف في دائرة الاستهلاك السريع ونغوص في دوامة الموضة السريعة والوجبات السريعة، لكن ماذا لو أبطأنا قليلاً واتخذنا خيارات تدعم التغيير الحقيقي من خلال دعم المشاريع الصغيرة والرّوّاد المحليين، لنختار المنتجات الفريدة المصنوعة يدوياً بعناية، ونُفضّل الجودة على الكمية، والاستدامة على النفايات، والإبداع على الإنتاج الضخم، وندعم أصحاب الرؤى الذين يبنون مستقبلاً أفضل، منتجاً تلو الآخر!
URL:https://eastjerusalem.ps/event/jerusalem-market/
CATEGORIES:Market
END:VEVENT
BEGIN:VEVENT
DTSTART;TZID=UTC:20241214T160000
DTEND;TZID=UTC:20241214T210000
DTSTAMP:20260420T223304
CREATED:20241210T081724Z
LAST-MODIFIED:20241210T081724Z
UID:7084-1734192000-1734210000@eastjerusalem.ps
SUMMARY:Game Night
DESCRIPTION:
URL:https://eastjerusalem.ps/event/game-night/
ATTACH;FMTTYPE=image/webp:https://eastjerusalem.ps/wp-content/uploads/2024/12/0cbc16_0708a41605da439d993d701f5e096a33mv2.webp
END:VEVENT
BEGIN:VEVENT
DTSTART;TZID=UTC:20241221T160000
DTEND;TZID=UTC:20241221T190000
DTSTAMP:20260420T223304
CREATED:20241210T082041Z
LAST-MODIFIED:20241210T082104Z
UID:7089-1734796800-1734807600@eastjerusalem.ps
SUMMARY:Dabkeh Lesson
DESCRIPTION:
URL:https://eastjerusalem.ps/event/dabkeh-lessons/
CATEGORIES:Workshop
ATTACH;FMTTYPE=image/webp:https://eastjerusalem.ps/wp-content/uploads/2024/12/0cbc16_fb20d6d71a584501b276da671ac92147mv2.webp
END:VEVENT
BEGIN:VEVENT
DTSTART;TZID=UTC:20241228T160000
DTEND;TZID=UTC:20241228T200000
DTSTAMP:20260420T223304
CREATED:20241210T082532Z
LAST-MODIFIED:20241210T082532Z
UID:7095-1735401600-1735416000@eastjerusalem.ps
SUMMARY:Ceramics Workshop
DESCRIPTION:
URL:https://eastjerusalem.ps/event/ceramics-workshop/
CATEGORIES:Workshop
ATTACH;FMTTYPE=image/webp:https://eastjerusalem.ps/wp-content/uploads/2024/12/0cbc16_9d79268aba8b44f2b6c09bf5fe2c027fmv2.webp
END:VEVENT
END:VCALENDAR