BEGIN:VCALENDAR
VERSION:2.0
PRODID:-//Maqdisi - مقدسي - ECPv6.15.18//NONSGML v1.0//EN
CALSCALE:GREGORIAN
METHOD:PUBLISH
X-ORIGINAL-URL:https://eastjerusalem.ps
X-WR-CALDESC:Events for Maqdisi - مقدسي
REFRESH-INTERVAL;VALUE=DURATION:PT1H
X-Robots-Tag:noindex
X-PUBLISHED-TTL:PT1H
BEGIN:VTIMEZONE
TZID:UTC
BEGIN:STANDARD
TZOFFSETFROM:+0000
TZOFFSETTO:+0000
TZNAME:UTC
DTSTART:20230101T000000
END:STANDARD
END:VTIMEZONE
BEGIN:VEVENT
DTSTART;TZID=UTC:20241220T160000
DTEND;TZID=UTC:20241220T210000
DTSTAMP:20260420T204926
CREATED:20241209T094529Z
LAST-MODIFIED:20241209T094529Z
UID:7049-1734710400-1734728400@eastjerusalem.ps
SUMMARY:Armenian Charity Bazar
DESCRIPTION:
URL:https://eastjerusalem.ps/event/armenian-charity-bazar/
LOCATION:Palestine
CATEGORIES:Market
ATTACH;FMTTYPE=image/jpeg:https://eastjerusalem.ps/wp-content/uploads/2024/12/468840483_588062893603121_3658352651470323971_n.jpg
END:VEVENT
END:VCALENDAR