BEGIN:VCALENDAR
VERSION:2.0
PRODID:-//Maqdisi - مقدسي - ECPv6.15.18//NONSGML v1.0//EN
CALSCALE:GREGORIAN
METHOD:PUBLISH
X-WR-CALNAME:Maqdisi - مقدسي
X-ORIGINAL-URL:https://eastjerusalem.ps
X-WR-CALDESC:Events for Maqdisi - مقدسي
REFRESH-INTERVAL;VALUE=DURATION:PT1H
X-Robots-Tag:noindex
X-PUBLISHED-TTL:PT1H
BEGIN:VTIMEZONE
TZID:UTC
BEGIN:STANDARD
TZOFFSETFROM:+0000
TZOFFSETTO:+0000
TZNAME:UTC
DTSTART:20230101T000000
END:STANDARD
END:VTIMEZONE
BEGIN:VEVENT
DTSTART;TZID=UTC:20241207T110000
DTEND;TZID=UTC:20241207T170000
DTSTAMP:20260420T204317
CREATED:20241130T124029Z
LAST-MODIFIED:20241130T124108Z
UID:6988-1733569200-1733590800@eastjerusalem.ps
SUMMARY:Bazaar
DESCRIPTION:
URL:https://eastjerusalem.ps/event/bazaar/
LOCATION:Palestine
CATEGORIES:Market
ATTACH;FMTTYPE=image/png:https://eastjerusalem.ps/wp-content/uploads/2024/11/1732617174885blob.png
END:VEVENT
END:VCALENDAR