BEGIN:VCALENDAR
VERSION:2.0
PRODID:-//Maqdisi - مقدسي - ECPv6.15.18//NONSGML v1.0//EN
CALSCALE:GREGORIAN
METHOD:PUBLISH
X-ORIGINAL-URL:https://eastjerusalem.ps
X-WR-CALDESC:Events for Maqdisi - مقدسي
REFRESH-INTERVAL;VALUE=DURATION:PT1H
X-Robots-Tag:noindex
X-PUBLISHED-TTL:PT1H
BEGIN:VTIMEZONE
TZID:UTC
BEGIN:STANDARD
TZOFFSETFROM:+0000
TZOFFSETTO:+0000
TZNAME:UTC
DTSTART:20240101T000000
END:STANDARD
END:VTIMEZONE
BEGIN:VEVENT
DTSTART;TZID=UTC:20250208T120000
DTEND;TZID=UTC:20250208T200000
DTSTAMP:20260420T153321
CREATED:20250203T083221Z
LAST-MODIFIED:20250203T083221Z
UID:7404-1739016000-1739044800@eastjerusalem.ps
SUMMARY:Food & Art Market at Al Ma’mal!
DESCRIPTION:Join us on Saturday\, February 8\, from 12:00 to 20:00 for a Food & Art Market at Al Ma’mal! \nDiscover a unique selection of handmade arts and crafts\, enjoy food and snacks\, and support local artists and artisans. \nCome\, explore\, and enjoy a day filled with creativity\, flavors\, and community spirit!
URL:https://eastjerusalem.ps/event/food-art-market-at-al-mamal/
LOCATION:Palestine
CATEGORIES:Market
ATTACH;FMTTYPE=image/png:https://eastjerusalem.ps/wp-content/uploads/2025/02/Screenshot-2025-02-03-103002.png
ORGANIZER;CN="Al-Mamal Foundation":MAILTO:info@almamal.org
END:VEVENT
BEGIN:VEVENT
DTSTART;TZID=UTC:20250228T080000
DTEND;TZID=UTC:20250228T170000
DTSTAMP:20260420T153321
CREATED:20250222T072305Z
LAST-MODIFIED:20250222T073433Z
UID:7543-1740729600-1740762000@eastjerusalem.ps
SUMMARY:Participation in "Souq Al-Quds" - Open Invitation
DESCRIPTION:“Souq Al-Quds” was previously held weekly as part of the Jerusalem Folk Arts Festival\, inspired by the traditional weekly markets in Jerusalem on Fridays. The market creates a space for artisans\, artists\, and small business owners to showcase their work to the public. \nYabis Cultural Center will organize “Souq Al-Quds” monthly. We invite artists\, artisans\, and small business owners to fill out the form to be added to our list for future events that match their work. \nA symbolic fee will apply for participation in the market.
URL:https://eastjerusalem.ps/event/participation-in-souq-al-quds-open-invitation/
LOCATION:Palestine
CATEGORIES:Market
ATTACH;FMTTYPE=image/png:https://eastjerusalem.ps/wp-content/uploads/2025/02/اعلانات-يبوس-اعياد-وتسكير-وغيره-2.png
END:VEVENT
END:VCALENDAR