BEGIN:VCALENDAR
VERSION:2.0
PRODID:-//Maqdisi - مقدسي - ECPv6.15.18//NONSGML v1.0//EN
CALSCALE:GREGORIAN
METHOD:PUBLISH
X-WR-CALNAME:Maqdisi - مقدسي
X-ORIGINAL-URL:https://eastjerusalem.ps
X-WR-CALDESC:Events for Maqdisi - مقدسي
REFRESH-INTERVAL;VALUE=DURATION:PT1H
X-Robots-Tag:noindex
X-PUBLISHED-TTL:PT1H
BEGIN:VTIMEZONE
TZID:UTC
BEGIN:STANDARD
TZOFFSETFROM:+0000
TZOFFSETTO:+0000
TZNAME:UTC
DTSTART:20230101T000000
END:STANDARD
END:VTIMEZONE
BEGIN:VEVENT
DTSTART;TZID=UTC:20241109T120000
DTEND;TZID=UTC:20241109T200000
DTSTAMP:20260420T204253
CREATED:20241104T084237Z
LAST-MODIFIED:20241104T084237Z
UID:6790-1731153600-1731182400@eastjerusalem.ps
SUMMARY:Women's Market
DESCRIPTION:Join us at Al-Ma’mal Foundation on Saturday\, November 9th\, from 12:00 to 20:00\, for the Women’s Market: Artistry and Empowerment! Celebrate the creativity and resilience of local women as they showcase their handcrafted art and delicious homemade foods. This market is not only a chance to discover unique\, one-of-a-kind pieces but also to support and uplift the talented women in our community. Don’t miss this special opportunity to connect\, shop\, and be inspired! \nانضموا إلينا في مؤسسة المعمل يوم السبت، 9 نوفمبر، من الساعة 12:00 إلى 20:00، في سوق المرأة: الإبداع والتمكين! احتفلوا بإبداع وقوة النساء المحليات وهن يعرضن أعمالهن اليدوية الفريدة وأطباقهن المنزلية الشهية. هذا السوق ليس فقط فرصة لاكتشاف قطع مميزة، بل أيضًا لدعم وتمكين النساء المتميزات في مجتمعنا. لا تفوتوا هذه الفرصة الخاصة للتواصل، والتسوق، والإلهام!
URL:https://eastjerusalem.ps/event/womens-market/
LOCATION:Al-mamal\, Al-Jawalida Street 8\, New Gate\, Old City\, Jerusalem\, East Jerusalem\, Israel\, Jerusalem
CATEGORIES:Market
ATTACH;FMTTYPE=image/jpeg:https://eastjerusalem.ps/wp-content/uploads/2024/11/465794386_18467705530026308_5010437468489173797_n.jpg
END:VEVENT
END:VCALENDAR