BEGIN:VCALENDAR
VERSION:2.0
PRODID:-//Maqdisi - مقدسي - ECPv6.15.18//NONSGML v1.0//EN
CALSCALE:GREGORIAN
METHOD:PUBLISH
X-ORIGINAL-URL:https://eastjerusalem.ps
X-WR-CALDESC:Events for Maqdisi - مقدسي
REFRESH-INTERVAL;VALUE=DURATION:PT1H
X-Robots-Tag:noindex
X-PUBLISHED-TTL:PT1H
BEGIN:VTIMEZONE
TZID:UTC
BEGIN:STANDARD
TZOFFSETFROM:+0000
TZOFFSETTO:+0000
TZNAME:UTC
DTSTART:20240101T000000
END:STANDARD
END:VTIMEZONE
BEGIN:VEVENT
DTSTART;TZID=UTC:20250802T100000
DTEND;TZID=UTC:20250802T123000
DTSTAMP:20260419T184020
CREATED:20250723T093329Z
LAST-MODIFIED:20250723T093329Z
UID:9046-1754128800-1754137800@eastjerusalem.ps
SUMMARY:Walking with Sesame - A Food Heritage Tour in Jerusalem
DESCRIPTION:Register now: Registration Link\nOr sign up via our Instagram: @theold_cityhub \n 
URL:https://eastjerusalem.ps/event/walking-with-sesame-a-food-heritage-tour-in-jerusalem/
LOCATION:The Old City Hub (Old Martin  Luther School – Dabagha Market)
CATEGORIES:food tour
ATTACH;FMTTYPE=image/jpeg:https://eastjerusalem.ps/wp-content/uploads/2025/07/WhatsApp-Image-2025-07-19-at-19.02.13.jpeg
ORGANIZER;CN="Al-Sabeel":MAILTO:Media@sabeel.org
END:VEVENT
BEGIN:VEVENT
DTSTART;TZID=UTC:20250524T190000
DTEND;TZID=UTC:20250524T190000
DTSTAMP:20260419T184020
CREATED:20250527T215315Z
LAST-MODIFIED:20250527T215336Z
UID:8759-1748113200-1748113200@eastjerusalem.ps
SUMMARY:Jerusalem Market
DESCRIPTION:يعود إليكم سوق القدس من جديد في شهر أيار، لنتعرف معًا على مشاريع فلسطينية، وندعم فنانينا، وحرفيينا، وروّاد مجتمعنا.\n\n\nموعدنا يوم السبت، 2025/5/24 ، من الساعة 12:00 ظهرًا حتى الساعة 7:00 مساءً، في مركز يبوس الثقافي، 10 شارع الزهراء، القدس حيث سيحوي السوق العديد من المشاريع للاطفال وللكبار.\n\n\nيحلّ شهر أيار على فلسطين محملًا بمعانٍ مزدوجة؛ فهو شهر نحتفي فيه بعمالنا وإنجازاتهم، لكنه يذكّرنا أيضًا سنويًا بالعديد من الأحداث الجسيمة التي مرت بها فلسطين. لهذا، نسلّط الضوء هذا العام على إنجازاتنا وصمودنا في القدس، مؤكدين من خلال حرفنا، وفنوننا، وفعالياتنا الثقافية، تمسكنا العميق بمدينة القدس.\n\n\nاستُوحي التصميم البصري للفعالية من ثوب أو غرزة “التحريرة” الفلسطينية، سواء من الثوب المقدسي أو التلحمي، وفق اللون والشكل، حيث استخدم فيه أكثر من لون من الألوان الأساسية المستمدة من هذه الأثواب.\n\n\nتكمن الفكرة الأساسية وراء استخدام هذا الثوب أولًا في اسمه، وثانيًا في ألوانه الغامقة، حيث شاع ارتداء هذه الأثواب وتطريزها بعد النكبة اكثر، بألوان داكنة تدل على الحزن والحداد، لا سيما في القرى والمناطق الفلسطينية التي تعرّضت للتهجير أو التدمير بشكل كبير.\n\n\nيظهر اللون الأسود بوضوح في التصميم، خاصة في الخطوط، إلى جانب الأزرق الغامق، الأحمر، الأصفر، الكحلي وغيرهم، وهي ألوان كانت تُستخدم سابقًا في الأثواب، لكنها ازدادت بعد النكبة، وكان اللون الأسود أساسها، تعبيرًا عن الصمود والمقاومة.\n\n\nتحوّل هذا الثوب إلى رمز للانتماء والمقاومة من خلال اللباس، حتى لو بصمت، للتعبير عن الحداد العام على ما تمرّ به فلسطين. لم تكن ألوانه جمالية فقط أو مرتبطة بشكل الثوب فحسب، بل أصبحت جزءًا من مقاومة النساء، خاصة في ظل محاولات منع الرموز الوطنية وقمعها. ولاحقًا، أصبحت ألوان العلم الفلسطيني تُدمج في الأثواب عندما كان يُمنع رفع العلم، فكانت الملابس وما زالت وسيلةً مهمةً للتعبير والمقاومة.
URL:https://eastjerusalem.ps/event/jerusalem-market-2/
LOCATION:Yabous Cultural Center.\, Al-Zahra Street\, Jerusalem\, Palestine
CATEGORIES:food tour,Market
ATTACH;FMTTYPE=image/jpeg:https://eastjerusalem.ps/wp-content/uploads/2025/05/497746261_18501930367062875_498019837410203459_n.jpg
END:VEVENT
BEGIN:VEVENT
DTSTART;TZID=UTC:20250524T093000
DTEND;TZID=UTC:20250524T133000
DTSTAMP:20260419T184020
CREATED:20250520T061826Z
LAST-MODIFIED:20250520T061917Z
UID:8744-1748079000-1748093400@eastjerusalem.ps
SUMMARY:Palestinian Food Tour
DESCRIPTION:
URL:https://eastjerusalem.ps/event/palestinian-food-tour/
LOCATION:Old Martin Luther School
CATEGORIES:food tour
ATTACH;FMTTYPE=image/jpeg:https://eastjerusalem.ps/wp-content/uploads/2025/05/WhatsApp-Image-2025-05-19-at-9.34.08-AM.jpeg
ORGANIZER;CN="Al-Sabeel":MAILTO:Media@sabeel.org
END:VEVENT
END:VCALENDAR