BEGIN:VCALENDAR
VERSION:2.0
PRODID:-//Maqdisi - مقدسي - ECPv6.15.18//NONSGML v1.0//EN
CALSCALE:GREGORIAN
METHOD:PUBLISH
X-ORIGINAL-URL:https://eastjerusalem.ps
X-WR-CALDESC:Events for Maqdisi - مقدسي
REFRESH-INTERVAL;VALUE=DURATION:PT1H
X-Robots-Tag:noindex
X-PUBLISHED-TTL:PT1H
BEGIN:VTIMEZONE
TZID:UTC
BEGIN:STANDARD
TZOFFSETFROM:+0000
TZOFFSETTO:+0000
TZNAME:UTC
DTSTART:20230101T000000
END:STANDARD
END:VTIMEZONE
BEGIN:VEVENT
DTSTART;TZID=UTC:20250222T080000
DTEND;TZID=UTC:20250222T180000
DTSTAMP:20260420T092010
CREATED:20250203T080316Z
LAST-MODIFIED:20250203T080316Z
UID:7387-1740211200-1740247200@eastjerusalem.ps
SUMMARY:Tour to Jericho
DESCRIPTION:Tour to Jericho with Kristel\nJericho Trip Details: \n\nNabi Musa\nDeir Hajla(Monastery of Saint Gerasimos)\nJamileh’s date farm (to be confirmed)\nHisham’s Palace (possibly Mount of Temptation with cable cars).\n\nTime (8.00 – 18.00) \n– By bus (pick up locations in Sheikh Jarrah and French Hill)\n– Price estimation 400/450 shekel pp including entrance fees and lunch \n(Max 18 people) \nfor registration and other information please contact kristelguide@gmail.com
URL:https://eastjerusalem.ps/event/tour-to-jericho/
CATEGORIES:رحلات دينية
ATTACH;FMTTYPE=image/jpeg:https://eastjerusalem.ps/wp-content/uploads/2025/02/300px-Monastery_of_the_Temptation_Jericho-2858580356.jpg
END:VEVENT
BEGIN:VEVENT
DTSTART;TZID=UTC:20241116T053000
DTEND;TZID=UTC:20241116T103000
DTSTAMP:20260420T092010
CREATED:20241112T091151Z
LAST-MODIFIED:20241112T091151Z
UID:6856-1731735000-1731753000@eastjerusalem.ps
SUMMARY:Sunrise with Prayer on the Tower of the Church of the Ascension in Jerusalem.
DESCRIPTION:Sunrise with prayer on the tower of the church of the Ascension in Jerusalem on Saturday \, November 16th \,5:30 am. followed by Breakfast \,Church Tour and Organ Concert.
URL:https://eastjerusalem.ps/event/sunrise-with-prayer-on-the-tower-of-the-church-of-the-ascension-in-jerusalem/
CATEGORIES:رحلات دينية
ATTACH;FMTTYPE=image/png:https://eastjerusalem.ps/wp-content/uploads/2024/11/image002.png
END:VEVENT
END:VCALENDAR